BEGIN:VCALENDAR
VERSION:2.0
PRODID:-//Northwest Carpenters Union - ECPv5.0.3.1//NONSGML v1.0//EN
CALSCALE:GREGORIAN
METHOD:PUBLISH
X-WR-CALNAME:Northwest Carpenters Union
X-ORIGINAL-URL:https://nwcarpenters.archive.s360.is
X-WR-CALDESC:Events for Northwest Carpenters Union
BEGIN:VTIMEZONE
TZID:America/Los_Angeles
BEGIN:DAYLIGHT
TZOFFSETFROM:-0800
TZOFFSETTO:-0700
TZNAME:PDT
DTSTART:20220313T100000
END:DAYLIGHT
BEGIN:STANDARD
TZOFFSETFROM:-0700
TZOFFSETTO:-0800
TZNAME:PST
DTSTART:20221106T090000
END:STANDARD
END:VTIMEZONE
BEGIN:VEVENT
DTSTART;TZID=America/Los_Angeles:20220514T080000
DTEND;TZID=America/Los_Angeles:20220514T100000
DTSTAMP:20260421T134205
CREATED:20220211T210625Z
LAST-MODIFIED:20220513T181214Z
UID:53553-1652515200-1652522400@nwcarpenters.archive.s360.is
SUMMARY:Portland Steward Training for OR/SWWA
DESCRIPTION:May  2022 UPDATE: This will be an in-person-only training that takes place at the Council office in Portland\, Oregon. May’s meeting will not have a virtual option this month. Please email Dale Dvorak at ddvorak@nwcarpenters.org for more information. \nSteward training is available on the second Saturday of every month. \nat 8:00 a.m. PST \n  \n
URL:https://nwcarpenters.archive.s360.is/event/virtual-steward-training-council-wide-2022-05-14/
LOCATION:PNWRCC offices- Portland\, 1636 East Burnside Street\, Portland\, OR\, 97214\, United States
ORGANIZER;CN="Daniel%20Del%20Real":MAILTO:ddelreal@nwcarpenters.org
GEO:45.52271;-122.6488194
X-APPLE-STRUCTURED-LOCATION;VALUE=URI;X-ADDRESS=PNWRCC offices- Portland 1636 East Burnside Street Portland OR 97214 United States;X-APPLE-RADIUS=500;X-TITLE=1636 East Burnside Street:geo:-122.6488194,45.52271
END:VEVENT
END:VCALENDAR