BEGIN:VCALENDAR
VERSION:2.0
PRODID:-//Northwest Carpenters Union - ECPv5.0.3.1//NONSGML v1.0//EN
CALSCALE:GREGORIAN
METHOD:PUBLISH
X-WR-CALNAME:Northwest Carpenters Union
X-ORIGINAL-URL:https://nwcarpenters.archive.s360.is
X-WR-CALDESC:Events for Northwest Carpenters Union
BEGIN:VTIMEZONE
TZID:America/Los_Angeles
BEGIN:DAYLIGHT
TZOFFSETFROM:-0800
TZOFFSETTO:-0700
TZNAME:PDT
DTSTART:20220313T100000
END:DAYLIGHT
BEGIN:STANDARD
TZOFFSETFROM:-0700
TZOFFSETTO:-0800
TZNAME:PST
DTSTART:20221106T090000
END:STANDARD
END:VTIMEZONE
BEGIN:VEVENT
DTSTART;TZID=America/Los_Angeles:20220202T170000
DTEND;TZID=America/Los_Angeles:20220202T170000
DTSTAMP:20260421T195942
CREATED:20220204T224125Z
LAST-MODIFIED:20220601T184426Z
UID:53215-1643821200-1643821200@nwcarpenters.archive.s360.is
SUMMARY:Veterans in the Brotherhood Monthly Meeting
DESCRIPTION:Veterans in the Brotherhood monthly meetings occur \non the first Wednesday of the month at 5:00 PM  PST \nLocation: \n1636 E. Burnside Street \nPortland\, OR 97214 \nAll veterans are welcome. \n\n\n\nVeterans gather together to discuss outreach\, recruitment\, retention\, and job opportunities\, and to work on events such as Paintball\, Veterans day dinner\, etc.\n\n\n\n  \n
URL:https://nwcarpenters.archive.s360.is/event/veterans-in-the-brotherhood-monthly-meeting/2022-02-02/
LOCATION:Northwest Carpenters Union Hall- Portland\, 1636 E Burnside Street\, Portland\, OR\, 97214\, United States
ORGANIZER;CN="Dale%20Dvorak":MAILTO:ddvorak@nwcarpenters.org
END:VEVENT
END:VCALENDAR