BEGIN:VCALENDAR
VERSION:2.0
PRODID:-//Northwest Carpenters Union - ECPv5.0.3.1//NONSGML v1.0//EN
CALSCALE:GREGORIAN
METHOD:PUBLISH
X-WR-CALNAME:Northwest Carpenters Union
X-ORIGINAL-URL:https://nwcarpenters.archive.s360.is
X-WR-CALDESC:Events for Northwest Carpenters Union
BEGIN:VTIMEZONE
TZID:America/Los_Angeles
BEGIN:DAYLIGHT
TZOFFSETFROM:-0800
TZOFFSETTO:-0700
TZNAME:PDT
DTSTART:20220313T100000
END:DAYLIGHT
BEGIN:STANDARD
TZOFFSETFROM:-0700
TZOFFSETTO:-0800
TZNAME:PST
DTSTART:20221106T090000
END:STANDARD
END:VTIMEZONE
BEGIN:VEVENT
DTSTART;TZID=America/Los_Angeles:20220326T083000
DTEND;TZID=America/Los_Angeles:20220326T170000
DTSTAMP:20260422T061746
CREATED:20220112T160632Z
LAST-MODIFIED:20220314T184026Z
UID:52640-1648283400-1648314000@nwcarpenters.archive.s360.is
SUMMARY:UBC Trusteeship Hearing
DESCRIPTION:A trusteeship hearing will be held on Saturday\, March 26\, 2022. \nThere will be two sessions: \n8:30 a.m. to 12:00 p.m. PST\, and 1:30 p.m. to 5:00 p.m. PST. \nThe hearing will be held in The Westin Seattle hotel’s Grand Ballroom 2 & 3  located at 1900 Fifth Avenue\, Seattle\, WA 98101. \nAll members of the Local Unions affiliated with the Regional Council may attend and give testimony if they choose. Non-members will not be allowed to attend. \nMembers may call (253) 945-8800 if they have questions regarding the hearing\, including the date\, time\, and location of the hearing. \nA final determination in this matter will be made by the UBC General Executive Board after receipt and consideration of the hearing committee’s report and recommendations. \nCOVID-19 UPDATE on March 11\, 2022: Please be advised that attendance at the hearing will no longer require proof of vaccination or face coverings. Please see the letter below for additional details. \nVaccine and Mask Requirements Update for 3.26.22 Trusteeship Hearing\n  \n
URL:https://nwcarpenters.archive.s360.is/event/ubc-trusteeship-hearing/
LOCATION:The Westin Seattle\, 1900 Fifth Avenue\, Seattle\, WA\, 98101\, United States
END:VEVENT
END:VCALENDAR