BEGIN:VCALENDAR
VERSION:2.0
PRODID:-//Northwest Carpenters Union - ECPv5.0.3.1//NONSGML v1.0//EN
CALSCALE:GREGORIAN
METHOD:PUBLISH
X-WR-CALNAME:Northwest Carpenters Union
X-ORIGINAL-URL:https://nwcarpenters.archive.s360.is
X-WR-CALDESC:Events for Northwest Carpenters Union
BEGIN:VTIMEZONE
TZID:America/Los_Angeles
BEGIN:DAYLIGHT
TZOFFSETFROM:-0800
TZOFFSETTO:-0700
TZNAME:PDT
DTSTART:20220313T100000
END:DAYLIGHT
BEGIN:STANDARD
TZOFFSETFROM:-0700
TZOFFSETTO:-0800
TZNAME:PST
DTSTART:20221106T090000
END:STANDARD
END:VTIMEZONE
BEGIN:VEVENT
DTSTART;TZID=America/Los_Angeles:20220416T100000
DTEND;TZID=America/Los_Angeles:20220416T110000
DTSTAMP:20260421T134411
CREATED:20220414T190657Z
LAST-MODIFIED:20220415T165621Z
UID:54177-1650103200-1650106800@nwcarpenters.archive.s360.is
SUMMARY:Tax Fraud Day of Action - Kent\, WA
DESCRIPTION:Construction industry tax fraud harms working families. Join us and special guests on April 16th as we volunteer to spread awareness about tax fraud and worker exploitation. \n  \nFamily-friendly!  \nComplimentary Lunch  \nKent tax fraud flyer\n
URL:https://nwcarpenters.archive.s360.is/event/tax-fraud-day-of-action-kent-wa/
LOCATION:PNWRCC Headquarters\, 25120 PACIFIC HWY S\, Kent\, WA\, 98032\, United States
ORGANIZER;CN="Pedro%20Espinoza":MAILTO:pespinoza@nwcarpenters.org
END:VEVENT
END:VCALENDAR