BEGIN:VCALENDAR
VERSION:2.0
PRODID:-//Northwest Carpenters Union - ECPv5.0.3.1//NONSGML v1.0//EN
CALSCALE:GREGORIAN
METHOD:PUBLISH
X-WR-CALNAME:Northwest Carpenters Union
X-ORIGINAL-URL:https://nwcarpenters.archive.s360.is
X-WR-CALDESC:Events for Northwest Carpenters Union
BEGIN:VTIMEZONE
TZID:America/Los_Angeles
BEGIN:DAYLIGHT
TZOFFSETFROM:-0800
TZOFFSETTO:-0700
TZNAME:PDT
DTSTART:20220313T100000
END:DAYLIGHT
BEGIN:STANDARD
TZOFFSETFROM:-0700
TZOFFSETTO:-0800
TZNAME:PST
DTSTART:20221106T090000
END:STANDARD
END:VTIMEZONE
BEGIN:VEVENT
DTSTART;TZID=America/Los_Angeles:20220416T100000
DTEND;TZID=America/Los_Angeles:20220416T100000
DTSTAMP:20260421T135858
CREATED:20220408T153056Z
LAST-MODIFIED:20220413T181019Z
UID:53997-1650103200-1650103200@nwcarpenters.archive.s360.is
SUMMARY:Tax Fraud Day of Action - 2022
DESCRIPTION:Construction industry tax fraud harms working families. Join us and special guests on April 16th as we volunteer to spread awareness and participate in door-knocking for our endorsed candidates. \n:TFDOA Post card 1 \nSpecial guests by location \nPortland\, Oregon: Tina Kotek\, Christina Stephenson\, and Rob Nosse \nEugene\, Oregon: Julie Fahey\, James Manning\, Paul Holvey\, Val Hoyle\, and Heather Buch \nKent\, Washington: Sarah Perry\, Karen Keiser\, Heidi Mohammed\, Dan Bronoske\, David Marin\, Bo Haines\, and others \nSign up here to volunteer\nEvents begin at 10:00 a.m. at the following three locations: \nPortland\, Oregon: PNCI\, 4222 NE 158th Avenue\, Portland\, OR 97230 \nEugene\, Oregon: Local Union 271\, 1265 S. Bertelsen Road\, Eugene\, OR 97402 \nKent\, Washington: PNWRCC Headquarters\, 25120 Pacific Highway S.\, Kent\, WA 98032 \n  \n  \n  \n
URL:https://nwcarpenters.archive.s360.is/event/tax-fraud-day-of-action-2022/
END:VEVENT
END:VCALENDAR