BEGIN:VCALENDAR
VERSION:2.0
PRODID:-//Northwest Carpenters Union - ECPv5.0.3.1//NONSGML v1.0//EN
CALSCALE:GREGORIAN
METHOD:PUBLISH
X-WR-CALNAME:Northwest Carpenters Union
X-ORIGINAL-URL:https://nwcarpenters.archive.s360.is
X-WR-CALDESC:Events for Northwest Carpenters Union
BEGIN:VTIMEZONE
TZID:America/Boise
BEGIN:DAYLIGHT
TZOFFSETFROM:-0700
TZOFFSETTO:-0600
TZNAME:MDT
DTSTART:20220313T090000
END:DAYLIGHT
BEGIN:STANDARD
TZOFFSETFROM:-0600
TZOFFSETTO:-0700
TZNAME:MST
DTSTART:20221106T080000
END:STANDARD
END:VTIMEZONE
BEGIN:VEVENT
DTSTART;TZID=America/Boise:20220329T163000
DTEND;TZID=America/Boise:20220329T203000
DTSTAMP:20260422T043859
CREATED:20220111T163912Z
LAST-MODIFIED:20220111T230433Z
UID:52448-1648571400-1648585800@nwcarpenters.archive.s360.is
SUMMARY:Steward Training\, Meridian Idaho
DESCRIPTION:  \nSteward Training at Local Union 635 will take place on the 4th Tuesday of March & September 2022. \n\n\n\nTraining provided to help stewards understand and effectively interpret area work agreements and opportunities for leadership and career growth. You’ll also learn about job site safety\, state regulations\, rules on wages\, and proper sub-contracting as well as union rules\, by-laws\, and other union activities.\n\n\n\nFirst Training: March 29\, 2022\, at 4:30 PM – 8:30 PM MT \nSecond Training: September 27\, 2022 at 4:30 PM- 8:30 PM \n\n\n\nLocation: \nLocal 635 \n965 S. Industry Way\, Ste 104\,  Meridian\, ID 83642\n\n\n\n
URL:https://nwcarpenters.archive.s360.is/event/steward-training-meridian-idaho/2022-03-29/
LOCATION:Local union 635\, 965 S. Industry Way\, Ste 104\, Meridian\, ID\, 83642
ORGANIZER;CN="Gilles%20Arouxet":MAILTO:garouxet@nwcarpenters.org
END:VEVENT
END:VCALENDAR