BEGIN:VCALENDAR
VERSION:2.0
PRODID:-//Northwest Carpenters Union - ECPv5.0.3.1//NONSGML v1.0//EN
CALSCALE:GREGORIAN
METHOD:PUBLISH
X-WR-CALNAME:Northwest Carpenters Union
X-ORIGINAL-URL:https://nwcarpenters.archive.s360.is
X-WR-CALDESC:Events for Northwest Carpenters Union
BEGIN:VTIMEZONE
TZID:America/Los_Angeles
BEGIN:DAYLIGHT
TZOFFSETFROM:-0800
TZOFFSETTO:-0700
TZNAME:PDT
DTSTART:20220313T100000
END:DAYLIGHT
BEGIN:STANDARD
TZOFFSETFROM:-0700
TZOFFSETTO:-0800
TZNAME:PST
DTSTART:20221106T090000
END:STANDARD
END:VTIMEZONE
BEGIN:VEVENT
DTSTART;TZID=America/Los_Angeles:20220402T080000
DTEND;TZID=America/Los_Angeles:20220402T120000
DTSTAMP:20260422T030925
CREATED:20220413T201438Z
LAST-MODIFIED:20220523T194224Z
UID:54121-1648886400-1648900800@nwcarpenters.archive.s360.is
SUMMARY:Steward Training - Burlington\, WA
DESCRIPTION:Monthly steward training in Burlington\, Washington\, occurs on the first Saturday of the month at 8:00 a.m. PST at the Burlington Training Center. \n
URL:https://nwcarpenters.archive.s360.is/event/steward-training-everett-wa/2022-04-02/
LOCATION:1387 Pacific Drive\, Burlington WA 98233\, 1387 Pacific Drive\, Burlington\, WA\, 98233
ORGANIZER;CN="Miguel%20Perry":MAILTO:mperry@nwcarpenters.org
END:VEVENT
END:VCALENDAR