BEGIN:VCALENDAR
VERSION:2.0
PRODID:-//Northwest Carpenters Union - ECPv5.0.3.1//NONSGML v1.0//EN
CALSCALE:GREGORIAN
METHOD:PUBLISH
X-WR-CALNAME:Northwest Carpenters Union
X-ORIGINAL-URL:https://nwcarpenters.archive.s360.is
X-WR-CALDESC:Events for Northwest Carpenters Union
BEGIN:VTIMEZONE
TZID:America/Los_Angeles
BEGIN:DAYLIGHT
TZOFFSETFROM:-0800
TZOFFSETTO:-0700
TZNAME:PDT
DTSTART:20220313T100000
END:DAYLIGHT
BEGIN:STANDARD
TZOFFSETFROM:-0700
TZOFFSETTO:-0800
TZNAME:PST
DTSTART:20221106T090000
END:STANDARD
END:VTIMEZONE
BEGIN:VEVENT
DTSTART;TZID=America/Los_Angeles:20220503T173000
DTEND;TZID=America/Los_Angeles:20220503T173000
DTSTAMP:20260421T164038
CREATED:20220503T151157Z
LAST-MODIFIED:20220503T151230Z
UID:54388-1651599000-1651599000@nwcarpenters.archive.s360.is
SUMMARY:Steward Meeting -  Portland\, OR
DESCRIPTION:Monthly Stewards meetings in Portland occur on the first Tuesday of the month at 5:30 p.m. at the Portland satellite office with an option to join virtually via Zoom. Contact the event organizer for the Zoom link. \n
URL:https://nwcarpenters.archive.s360.is/event/steward-meeting-portland-or/2022-05-03/
LOCATION:Northwest Carpenters Union Hall- Portland\, 1636 E Burnside Street\, Portland\, OR\, 97214\, United States
ORGANIZER;CN="Daniel%20Del%20Real":MAILTO:ddelreal@nwcarpenters.org
END:VEVENT
END:VCALENDAR