BEGIN:VCALENDAR
VERSION:2.0
PRODID:-//Northwest Carpenters Union - ECPv5.0.3.1//NONSGML v1.0//EN
CALSCALE:GREGORIAN
METHOD:PUBLISH
X-WR-CALNAME:Northwest Carpenters Union
X-ORIGINAL-URL:https://nwcarpenters.archive.s360.is
X-WR-CALDESC:Events for Northwest Carpenters Union
BEGIN:VTIMEZONE
TZID:America/Boise
BEGIN:DAYLIGHT
TZOFFSETFROM:-0700
TZOFFSETTO:-0600
TZNAME:MDT
DTSTART:20220313T090000
END:DAYLIGHT
BEGIN:STANDARD
TZOFFSETFROM:-0600
TZOFFSETTO:-0700
TZNAME:MST
DTSTART:20221106T080000
END:STANDARD
END:VTIMEZONE
BEGIN:VEVENT
DTSTART;TZID=America/Boise:20220111T160000
DTEND;TZID=America/Boise:20220111T160000
DTSTAMP:20260421T133459
CREATED:20220110T202806Z
LAST-MODIFIED:20220111T231130Z
UID:52404-1641916800-1641916800@nwcarpenters.archive.s360.is
SUMMARY:Steward Meeting- Meridian\, Idaho
DESCRIPTION:\n\n\nSteward Meeting for active and trained stewards. \nOccurs the second Tuesday of each month at 4 PM MT \nLocation: \n\n\n\nThe Curb Bar & Grill \n1760 S Meridian Rd\, #100  Meridian\, ID 83642 \n \n\n\n\n\n\n\n\n
URL:https://nwcarpenters.archive.s360.is/event/steward-meeting-meridian-idaho/2022-01-11/
ORGANIZER;CN="Steve%20Kramer":MAILTO:skramer@nwcarpenters.org
END:VEVENT
END:VCALENDAR