BEGIN:VCALENDAR
VERSION:2.0
PRODID:-//Northwest Carpenters Union - ECPv5.0.3.1//NONSGML v1.0//EN
CALSCALE:GREGORIAN
METHOD:PUBLISH
X-WR-CALNAME:Northwest Carpenters Union
X-ORIGINAL-URL:https://nwcarpenters.archive.s360.is
X-WR-CALDESC:Events for Northwest Carpenters Union
BEGIN:VTIMEZONE
TZID:America/Los_Angeles
BEGIN:DAYLIGHT
TZOFFSETFROM:-0800
TZOFFSETTO:-0700
TZNAME:PDT
DTSTART:20220313T100000
END:DAYLIGHT
BEGIN:STANDARD
TZOFFSETFROM:-0700
TZOFFSETTO:-0800
TZNAME:PST
DTSTART:20221106T090000
END:STANDARD
END:VTIMEZONE
BEGIN:VEVENT
DTSTART;TZID=America/Los_Angeles:20220201T180000
DTEND;TZID=America/Los_Angeles:20220201T180000
DTSTAMP:20260422T012729
CREATED:20220105T204920Z
LAST-MODIFIED:20220111T222438Z
UID:52200-1643738400-1643738400@nwcarpenters.archive.s360.is
SUMMARY:Orientación para Nuevos Miembros- Spanish New Member Orientation for the State of Washington
DESCRIPTION:\n\n\n\nEsta reunión se lleva a cabo en linea a través de Microsoft Teams cada dos meses el primer martes a las 6:00 p.m\nEncuentre el enlace a continuación.\n  \nThis meeting is held online via Microsoft Teams every other month on the first Tuesday at 6:00 PM PST \nPlease find the link below.\n\n\n\n
URL:https://nwcarpenters.archive.s360.is/event/spanish-new-member-orientation-for-the-state-of-washington/2022-02-01/
ORGANIZER;CN="lvela%40nwcarpenters.org":MAILTO:lvela@nwcarpenters.org
END:VEVENT
END:VCALENDAR