BEGIN:VCALENDAR
VERSION:2.0
PRODID:-//Northwest Carpenters Union - ECPv5.0.3.1//NONSGML v1.0//EN
CALSCALE:GREGORIAN
METHOD:PUBLISH
X-WR-CALNAME:Northwest Carpenters Union
X-ORIGINAL-URL:https://nwcarpenters.archive.s360.is
X-WR-CALDESC:Events for Northwest Carpenters Union
BEGIN:VTIMEZONE
TZID:America/Los_Angeles
BEGIN:DAYLIGHT
TZOFFSETFROM:-0800
TZOFFSETTO:-0700
TZNAME:PDT
DTSTART:20220313T100000
END:DAYLIGHT
BEGIN:STANDARD
TZOFFSETFROM:-0700
TZOFFSETTO:-0800
TZNAME:PST
DTSTART:20221106T090000
END:STANDARD
END:VTIMEZONE
BEGIN:VEVENT
DTSTART;TZID=America/Los_Angeles:20220407T183000
DTEND;TZID=America/Los_Angeles:20220407T183000
DTSTAMP:20260421T184120
CREATED:20220406T193033Z
LAST-MODIFIED:20220406T230328Z
UID:53963-1649356200-1649356200@nwcarpenters.archive.s360.is
SUMMARY:Scaffolding & Shoring 2022 Master Agreement Virtual Meeting
DESCRIPTION:Scaffolding & Shoring members are invited to this month’s membership meeting via Zoom to discuss the Master Agreement. \nMembers of the bargaining team will be available to answer your questions on the recent tentative agreement reached for the Scaffold & Shoring Master Agreement. The meeting will be held this Thursday\, April 7th\, @ 6:30 pm. \nFollow the link to join: \nhttps://nwcarpenters.zoom.us/j/82766178597?pwd=eDVPYlc2MTl6M1htRUc1WXhPMGR0QT09 \n
URL:https://nwcarpenters.archive.s360.is/event/scaffolding-shoring-2022-master-agreement-virtual-meeting/
END:VEVENT
END:VCALENDAR