BEGIN:VCALENDAR
VERSION:2.0
PRODID:-//Northwest Carpenters Union - ECPv5.0.3.1//NONSGML v1.0//EN
CALSCALE:GREGORIAN
METHOD:PUBLISH
X-WR-CALNAME:Northwest Carpenters Union
X-ORIGINAL-URL:https://nwcarpenters.archive.s360.is
X-WR-CALDESC:Events for Northwest Carpenters Union
BEGIN:VTIMEZONE
TZID:America/Los_Angeles
BEGIN:DAYLIGHT
TZOFFSETFROM:-0800
TZOFFSETTO:-0700
TZNAME:PDT
DTSTART:20220313T100000
END:DAYLIGHT
BEGIN:STANDARD
TZOFFSETFROM:-0700
TZOFFSETTO:-0800
TZNAME:PST
DTSTART:20221106T090000
END:STANDARD
END:VTIMEZONE
BEGIN:VEVENT
DTSTART;TZID=America/Los_Angeles:20220127T180000
DTEND;TZID=America/Los_Angeles:20220127T190000
DTSTAMP:20260421T182521
CREATED:20220110T191200Z
LAST-MODIFIED:20220110T191200Z
UID:52377-1643306400-1643310000@nwcarpenters.archive.s360.is
SUMMARY:North Puget Sound Sister in the Brotherhood Monthly Meeting
DESCRIPTION:January 2022 North Puget Sound-Sisters in the Brotherhood Hybrid Monthly Meeting \nIn-Person: \nThose who would like to attend in person and meet the vaccination requirements will be gathering at the Burlington Local 70 Union Hall Location \nBurlington Local 70 Union Hall \n1387 Pacific Drive\, Suite E \nBurlington\, WA 98233 \n  \nHybrid option \nZoom Link available upon request. Please call or email to request the link: \n\nEmail\nNorthpugetsoundsib@gmail.com\n\nPhone\n360-424-1532\n\n\n
URL:https://nwcarpenters.archive.s360.is/event/north-puget-sound-sister-in-the-brotherhood-monthly-meeting/
ORGANIZER;CN="Lisa%20Marx":MAILTO:NorthpugetsoundSIB@gmail.com
END:VEVENT
END:VCALENDAR