BEGIN:VCALENDAR
VERSION:2.0
PRODID:-//Northwest Carpenters Union - ECPv5.0.3.1//NONSGML v1.0//EN
CALSCALE:GREGORIAN
METHOD:PUBLISH
X-WR-CALNAME:Northwest Carpenters Union
X-ORIGINAL-URL:https://nwcarpenters.archive.s360.is
X-WR-CALDESC:Events for Northwest Carpenters Union
BEGIN:VTIMEZONE
TZID:America/Los_Angeles
BEGIN:DAYLIGHT
TZOFFSETFROM:-0800
TZOFFSETTO:-0700
TZNAME:PDT
DTSTART:20220313T100000
END:DAYLIGHT
BEGIN:STANDARD
TZOFFSETFROM:-0700
TZOFFSETTO:-0800
TZNAME:PST
DTSTART:20221106T090000
END:STANDARD
END:VTIMEZONE
BEGIN:VEVENT
DTSTART;TZID=America/Los_Angeles:20220404T173000
DTEND;TZID=America/Los_Angeles:20220404T173000
DTSTAMP:20260421T234140
CREATED:20220214T225813Z
LAST-MODIFIED:20220318T193238Z
UID:53630-1649093400-1649093400@nwcarpenters.archive.s360.is
SUMMARY:New Member Orientation-Greater OR
DESCRIPTION:New Member Orientation for Members in Eugene and Greater  Oregon\nHosted by Jeff Harms – For English Speaking members of LU 271\nZoom link posted below:\n\nJeff Harms is inviting you to a scheduled Zoom meeting. \nJoin Zoom Meeting\nhttps://nwcarpenters.zoom.us/j/87840702897?pwd=M1hoK2tCanJ6MXVqY3NsWms1UU5MQT09 \nMeeting ID: 878 4070 2897\nPasscode: 901518\nOne tap mobile\n+525586596001\,\,87840702897#\,\,\,\,*901518# Mexico\n+525586596002\,\,87840702897#\,\,\,\,*901518# Mexico \nDial by your location\n+52 558 659 6001 Mexico\n+52 558 659 6002 Mexico\n+52 554 161 4288 Mexico\n+52 554 169 6926 Mexico\n+52 556 826 9800 Mexico\nMeeting ID: 878 4070 2897\nPasscode: 901518\nFind your local number: https://nwcarpenters.zoom.us/u/kd66uFhQRf \n\n
URL:https://nwcarpenters.archive.s360.is/event/new-member-orientation-greater-or/2022-04-04/
ORGANIZER;CN="Jeff%20Harms":MAILTO:jharms@nwcarpenters.org
END:VEVENT
END:VCALENDAR