BEGIN:VCALENDAR
VERSION:2.0
PRODID:-//Northwest Carpenters Union - ECPv5.0.3.1//NONSGML v1.0//EN
CALSCALE:GREGORIAN
METHOD:PUBLISH
X-WR-CALNAME:Northwest Carpenters Union
X-ORIGINAL-URL:https://nwcarpenters.archive.s360.is
X-WR-CALDESC:Events for Northwest Carpenters Union
BEGIN:VTIMEZONE
TZID:America/Los_Angeles
BEGIN:DAYLIGHT
TZOFFSETFROM:-0800
TZOFFSETTO:-0700
TZNAME:PDT
DTSTART:20220313T100000
END:DAYLIGHT
BEGIN:STANDARD
TZOFFSETFROM:-0700
TZOFFSETTO:-0800
TZNAME:PST
DTSTART:20221106T090000
END:STANDARD
END:VTIMEZONE
BEGIN:VEVENT
DTSTART;TZID=America/Los_Angeles:20220322T170000
DTEND;TZID=America/Los_Angeles:20220322T170000
DTSTAMP:20260421T220829
CREATED:20220304T172503Z
LAST-MODIFIED:20220304T172503Z
UID:53737-1647968400-1647968400@nwcarpenters.archive.s360.is
SUMMARY:New Member Orienation - Fairbanks\, AK
DESCRIPTION:New Member Orientation in Fairbanks\, Alaska will take place on March 22\, 2022\, at 5:00 p.m. AKT \nLocation: \nCarpenters Local Union 1243 \n25 Timberland Drive \nFairbanks\, AK 99701 \nNMO for this location is scheduled on an as-needed basis. Please contact the event organizer for more information. \n
URL:https://nwcarpenters.archive.s360.is/event/new-member-orienation-fairbanks-ak/
LOCATION:Local 1243 Fairbanks Carpenters\, 25 Timberland Drive\, Fairbanks\, AK\, 99707\, United States
ORGANIZER;CN="AJ%20Sutton":MAILTO:asutton@nwcarpenters.org
GEO:64.8487375;-147.7009256
X-APPLE-STRUCTURED-LOCATION;VALUE=URI;X-ADDRESS=Local 1243 Fairbanks Carpenters 25 Timberland Drive Fairbanks AK 99707 United States;X-APPLE-RADIUS=500;X-TITLE=25 Timberland Drive:geo:-147.7009256,64.8487375
END:VEVENT
END:VCALENDAR