BEGIN:VCALENDAR
VERSION:2.0
PRODID:-//Northwest Carpenters Union - ECPv5.0.3.1//NONSGML v1.0//EN
CALSCALE:GREGORIAN
METHOD:PUBLISH
X-WR-CALNAME:Northwest Carpenters Union
X-ORIGINAL-URL:https://nwcarpenters.archive.s360.is
X-WR-CALDESC:Events for Northwest Carpenters Union
BEGIN:VTIMEZONE
TZID:America/Los_Angeles
BEGIN:DAYLIGHT
TZOFFSETFROM:-0800
TZOFFSETTO:-0700
TZNAME:PDT
DTSTART:20220313T100000
END:DAYLIGHT
BEGIN:STANDARD
TZOFFSETFROM:-0700
TZOFFSETTO:-0800
TZNAME:PST
DTSTART:20221106T090000
END:STANDARD
END:VTIMEZONE
BEGIN:VEVENT
DTSTART;TZID=America/Los_Angeles:20220119T170000
DTEND;TZID=America/Los_Angeles:20220119T170000
DTSTAMP:20260421T220644
CREATED:20220118T223259Z
LAST-MODIFIED:20220214T215031Z
UID:52704-1642611600-1642611600@nwcarpenters.archive.s360.is
SUMMARY:Monthly Virtual Foreman Leadership Training
DESCRIPTION:Occurs online every 3rd Wednesday of the  month at 5:00 pm PST \nPlease click the link to join: \nhttps://buildnw.org/foreman-training \nForeman_Leadership_Tri-Bro_FINAL Foreman Leadership Curriculum \n  \n
URL:https://nwcarpenters.archive.s360.is/event/monthly-virtual-foreman-leadership-training/2022-01-19/
END:VEVENT
END:VCALENDAR