BEGIN:VCALENDAR
VERSION:2.0
PRODID:-//Northwest Carpenters Union - ECPv5.0.3.1//NONSGML v1.0//EN
CALSCALE:GREGORIAN
METHOD:PUBLISH
X-WR-CALNAME:Northwest Carpenters Union
X-ORIGINAL-URL:https://nwcarpenters.archive.s360.is
X-WR-CALDESC:Events for Northwest Carpenters Union
BEGIN:VTIMEZONE
TZID:America/Los_Angeles
BEGIN:DAYLIGHT
TZOFFSETFROM:-0800
TZOFFSETTO:-0700
TZNAME:PDT
DTSTART:20220313T100000
END:DAYLIGHT
BEGIN:STANDARD
TZOFFSETFROM:-0700
TZOFFSETTO:-0800
TZNAME:PST
DTSTART:20221106T090000
END:STANDARD
END:VTIMEZONE
BEGIN:VEVENT
DTSTART;TZID=America/Los_Angeles:20220210T183000
DTEND;TZID=America/Los_Angeles:20220210T183000
DTSTAMP:20260421T195915
CREATED:20220204T234717Z
LAST-MODIFIED:20220204T234717Z
UID:53275-1644517800-1644517800@nwcarpenters.archive.s360.is
SUMMARY:Monthly Steward Meeting- Kennewick\, WA
DESCRIPTION:The monthly Steward Meeting in Kennewick\, Washington occurs the second Thursday of each month at 6:30 PM PST. \nLocation: \n\n\n\nPNWRCC \n515 N Neel Street\, B101\, Kennewick\, WA 99336\n\n\n\n
URL:https://nwcarpenters.archive.s360.is/event/monthly-steward-meeting-kennewick-wa/2022-02-10/
LOCATION:PNWRCC-Kennewick\, 515 North Neel Street\, B101\, Kennewick\, 99336
ORGANIZER;CN="Julian%20Jensen":MAILTO:jjensen@nwcarpenters.org
END:VEVENT
END:VCALENDAR