BEGIN:VCALENDAR
VERSION:2.0
PRODID:-//Northwest Carpenters Union - ECPv5.0.3.1//NONSGML v1.0//EN
CALSCALE:GREGORIAN
METHOD:PUBLISH
X-WR-CALNAME:Northwest Carpenters Union
X-ORIGINAL-URL:https://nwcarpenters.archive.s360.is
X-WR-CALDESC:Events for Northwest Carpenters Union
BEGIN:VTIMEZONE
TZID:America/Los_Angeles
BEGIN:DAYLIGHT
TZOFFSETFROM:-0800
TZOFFSETTO:-0700
TZNAME:PDT
DTSTART:20220313T100000
END:DAYLIGHT
BEGIN:STANDARD
TZOFFSETFROM:-0700
TZOFFSETTO:-0800
TZNAME:PST
DTSTART:20221106T090000
END:STANDARD
END:VTIMEZONE
BEGIN:VEVENT
DTSTART;TZID=America/Los_Angeles:20220301T180000
DTEND;TZID=America/Los_Angeles:20220301T180000
DTSTAMP:20260422T012606
CREATED:20220207T205453Z
LAST-MODIFIED:20220318T185708Z
UID:53351-1646157600-1646157600@nwcarpenters.archive.s360.is
SUMMARY:Monthly Informational Meeting- Medford\, Oregon
DESCRIPTION:Monthly informational meetings in Medford\, Oregon \noccur in-person on the first Tuesday of the month at 6:00 p.m. PST \nLocation: \n\n\n\nThe Point Pub and Grill \n311 E Pine Street \nCentral Point\, OR 97502\n\n\n\n
URL:https://nwcarpenters.archive.s360.is/event/monthly-informational-meeting-medford-oregon/2022-03-01/
LOCATION:The Point Pub & Grill\, 311 East Pine Street\, Central Point\, Oregon\, 97502
ORGANIZER;CN="Jeff%20Kihn":MAILTO:jkihn@nwcarpenters.org
END:VEVENT
END:VCALENDAR