BEGIN:VCALENDAR
VERSION:2.0
PRODID:-//Northwest Carpenters Union - ECPv5.0.3.1//NONSGML v1.0//EN
CALSCALE:GREGORIAN
METHOD:PUBLISH
X-WR-CALNAME:Northwest Carpenters Union
X-ORIGINAL-URL:https://nwcarpenters.archive.s360.is
X-WR-CALDESC:Events for Northwest Carpenters Union
BEGIN:VTIMEZONE
TZID:America/Los_Angeles
BEGIN:DAYLIGHT
TZOFFSETFROM:-0800
TZOFFSETTO:-0700
TZNAME:PDT
DTSTART:20220313T100000
END:DAYLIGHT
BEGIN:STANDARD
TZOFFSETFROM:-0700
TZOFFSETTO:-0800
TZNAME:PST
DTSTART:20221106T090000
END:STANDARD
END:VTIMEZONE
BEGIN:VEVENT
DTSTART;TZID=America/Los_Angeles:20220428T180000
DTEND;TZID=America/Los_Angeles:20220428T180000
DTSTAMP:20260421T121811
CREATED:20220118T230040Z
LAST-MODIFIED:20220428T150213Z
UID:52744-1651168800-1651168800@nwcarpenters.archive.s360.is
SUMMARY:Monthly Foreman Leadership Training - LOCATION UPDATE: Burlington\, Washington
DESCRIPTION:Monthly Foreman Leadership training in Everett\, Washington occurs in person every fourth Thursday of the month at 6:00 PM PST \nUPDATE: April’s training location has moved to Burlington\, Washington: \nLocation: \n1387 Pacific Dr Ste \nBurlington WA 98233 \nForeman_Leadership_Tri-Bro_FINAL\nForeman Leadership Curriculum\n”Vaccine”] \n
URL:https://nwcarpenters.archive.s360.is/event/monthly-foreman-leadership-training-everett-washington-2022-04-28/
LOCATION:1387 Pacific Drive\, Burlington WA 98233\, 1387 Pacific Drive\, Burlington\, WA\, 98233
ORGANIZER;CN="Dale%20Dvorak":MAILTO:ddvorak@nwcarpenters.org
END:VEVENT
END:VCALENDAR