BEGIN:VCALENDAR
VERSION:2.0
PRODID:-//Northwest Carpenters Union - ECPv5.0.3.1//NONSGML v1.0//EN
CALSCALE:GREGORIAN
METHOD:PUBLISH
X-WR-CALNAME:Northwest Carpenters Union
X-ORIGINAL-URL:https://nwcarpenters.archive.s360.is
X-WR-CALDESC:Events for Northwest Carpenters Union
BEGIN:VTIMEZONE
TZID:America/Los_Angeles
BEGIN:DAYLIGHT
TZOFFSETFROM:-0800
TZOFFSETTO:-0700
TZNAME:PDT
DTSTART:20220313T100000
END:DAYLIGHT
BEGIN:STANDARD
TZOFFSETFROM:-0700
TZOFFSETTO:-0800
TZNAME:PST
DTSTART:20221106T090000
END:STANDARD
END:VTIMEZONE
BEGIN:VEVENT
DTSTART;TZID=America/Los_Angeles:20220118T180000
DTEND;TZID=America/Los_Angeles:20220118T180000
DTSTAMP:20260421T134302
CREATED:20220118T231121Z
LAST-MODIFIED:20220509T200443Z
UID:52753-1642528800-1642528800@nwcarpenters.archive.s360.is
SUMMARY:Monthly Foreman Leadership Training - DuPont\, WA
DESCRIPTION:Monthly Foreman Leadership Training at the Dupont Training Center occurs monthly every third Tuesday of the month at 6:00 PM PST. \nLocation: \nDupont Training Center \n2575 Williamson Pl\, DuPont\, WA 98327 \nForeman_Leadership_Tri-Bro_FINAL\nForeman Leadership Curriculum\n”Vaccine”] \n
URL:https://nwcarpenters.archive.s360.is/event/monthly-foreman-leadership-training-burlington-wa/2022-01-18/
LOCATION:NWCI DuPont\, 2575 Williamson Pl.\, DuPont\, WA\, 98327\, United States
ORGANIZER;CN="Pedro%20Espinoza":MAILTO:pespinoza@nwcarpenters.org
END:VEVENT
END:VCALENDAR