BEGIN:VCALENDAR
VERSION:2.0
PRODID:-//Northwest Carpenters Union - ECPv5.0.3.1//NONSGML v1.0//EN
CALSCALE:GREGORIAN
METHOD:PUBLISH
X-WR-CALNAME:Northwest Carpenters Union
X-ORIGINAL-URL:https://nwcarpenters.archive.s360.is
X-WR-CALDESC:Events for Northwest Carpenters Union
BEGIN:VTIMEZONE
TZID:America/Los_Angeles
BEGIN:DAYLIGHT
TZOFFSETFROM:-0800
TZOFFSETTO:-0700
TZNAME:PDT
DTSTART:20220313T100000
END:DAYLIGHT
BEGIN:STANDARD
TZOFFSETFROM:-0700
TZOFFSETTO:-0800
TZNAME:PST
DTSTART:20221106T090000
END:STANDARD
END:VTIMEZONE
BEGIN:VEVENT
DTSTART;TZID=America/Los_Angeles:20220212T110000
DTEND;TZID=America/Los_Angeles:20220212T110000
DTSTAMP:20260421T225951
CREATED:20220110T182343Z
LAST-MODIFIED:20220204T210751Z
UID:52352-1644663600-1644663600@nwcarpenters.archive.s360.is
SUMMARY:Millwrights Local Union 96 Monthly  Membership Meeting
DESCRIPTION:\n\n\nMillwrights Local 96 Monthly Union Membership Meeting\n\n\n\nOccurs in-person on the second Saturday of each month at 11:00 AM PST \n\n\n\n  \nPrimary Location: \nMILLWRIGHTS LOCAL 96 \n515 N Neel Street\, B101\, Kennewick\, WA 99336\n\n\n\n*Remote locations \n\n\n\nVideo Conference Locations: \nPNCI \n4222 NE 158th Ave\, Portland\, OR \nand \nPNWRCC Local 30 \n231 Burnett Ave N\, Renton\, WA\n\n\n\n
URL:https://nwcarpenters.archive.s360.is/event/millwrights-local-union-96-monthly-meeting/2022-02-12/
LOCATION:Local 96 Millwrights\, 515 N Neel Street\, Suite B-101\, Kennewick\, WA\, 99336\, United States
ORGANIZER;CN="Jeremiah%20Johnson":MAILTO:jjohnson@nwcarpenters.org
GEO:46.2150496;-119.170841
X-APPLE-STRUCTURED-LOCATION;VALUE=URI;X-ADDRESS=Local 96 Millwrights 515 N Neel Street Suite B-101 Kennewick WA 99336 United States;X-APPLE-RADIUS=500;X-TITLE=515 N Neel Street\, Suite B-101:geo:-119.170841,46.2150496
END:VEVENT
END:VCALENDAR