BEGIN:VCALENDAR
VERSION:2.0
PRODID:-//Northwest Carpenters Union - ECPv5.0.3.1//NONSGML v1.0//EN
CALSCALE:GREGORIAN
METHOD:PUBLISH
X-WR-CALNAME:Northwest Carpenters Union
X-ORIGINAL-URL:https://nwcarpenters.archive.s360.is
X-WR-CALDESC:Events for Northwest Carpenters Union
BEGIN:VTIMEZONE
TZID:America/Phoenix
BEGIN:STANDARD
TZOFFSETFROM:-0700
TZOFFSETTO:-0700
TZNAME:MST
DTSTART:20220101T000000
END:STANDARD
END:VTIMEZONE
BEGIN:VEVENT
DTSTART;TZID=America/Phoenix:20220127T190000
DTEND;TZID=America/Phoenix:20220127T190000
DTSTAMP:20260421T182108
CREATED:20220128T224732Z
LAST-MODIFIED:20220128T224732Z
UID:52990-1643310000-1643310000@nwcarpenters.archive.s360.is
SUMMARY:Local Union 82 Monthly Membership Meeting
DESCRIPTION:Local Union 82 monthly membership meeting occurs the fourth Thursday of each month at 7:00 PM MT \nMeetings are held in person at the following locations: \nGreat Falls\, MT: \n 300 15th St S Suite #1\, Great Falls\, MT 59405 \nSatellite Locations: \nBillings\, MT \nButte\, MT \nMissoula\, MT \nPlease contact Local Union 82 for details regarding satellite meeting locations by calling 406-453-1301 or email: 82@northwestcarpenters.org \n  \n
URL:https://nwcarpenters.archive.s360.is/event/local-union-82-monthly-membership-meeting/2022-01-27/
LOCATION:Local 82 Montana Carpenters – statewide\, 300 15th Street S\, Suite 1\, Great Falls\, MT\, 59045\, United States
GEO:47.5015924;-111.2822552
X-APPLE-STRUCTURED-LOCATION;VALUE=URI;X-ADDRESS=Local 82 Montana Carpenters – statewide 300 15th Street S Suite 1 Great Falls MT 59045 United States;X-APPLE-RADIUS=500;X-TITLE=300 15th Street S\, Suite 1:geo:-111.2822552,47.5015924
END:VEVENT
END:VCALENDAR