BEGIN:VCALENDAR
VERSION:2.0
PRODID:-//Northwest Carpenters Union - ECPv5.0.3.1//NONSGML v1.0//EN
CALSCALE:GREGORIAN
METHOD:PUBLISH
X-WR-CALNAME:Northwest Carpenters Union
X-ORIGINAL-URL:https://nwcarpenters.archive.s360.is
X-WR-CALDESC:Events for Northwest Carpenters Union
BEGIN:VTIMEZONE
TZID:America/Los_Angeles
BEGIN:DAYLIGHT
TZOFFSETFROM:-0800
TZOFFSETTO:-0700
TZNAME:PDT
DTSTART:20220313T100000
END:DAYLIGHT
BEGIN:STANDARD
TZOFFSETFROM:-0700
TZOFFSETTO:-0800
TZNAME:PST
DTSTART:20221106T090000
END:STANDARD
END:VTIMEZONE
BEGIN:VEVENT
DTSTART;TZID=America/Los_Angeles:20220126T180000
DTEND;TZID=America/Los_Angeles:20220126T180000
DTSTAMP:20260421T195859
CREATED:20220128T232143Z
LAST-MODIFIED:20220208T230315Z
UID:53014-1643220000-1643220000@nwcarpenters.archive.s360.is
SUMMARY:Local Union 816 Monthly Membership Meeting
DESCRIPTION:Local Union 816  in-person monthly membership meeting occurs on the fourth Wednesday of each month at 6:00 PM PST \nLocation: \n\n\n\nRenton Hall \n231 Burnett Ave N\, Renton\, WA 98057\n\n\n\n  \n
URL:https://nwcarpenters.archive.s360.is/event/local-union-816-monthly-membership-meeting/2022-01-26/
LOCATION:Local 816 Residential Carpenters\, 231 Burnett Avenue N\, Suite C\, Renton\, WA\, 98057\, United States
ORGANIZER;CN="Pedro%20Espinoza":MAILTO:pespinoza@nwcarpenters.org
GEO:47.4868593;-122.2074141
X-APPLE-STRUCTURED-LOCATION;VALUE=URI;X-ADDRESS=Local 816 Residential Carpenters 231 Burnett Avenue N Suite C Renton WA 98057 United States;X-APPLE-RADIUS=500;X-TITLE=231 Burnett Avenue N\, Suite C:geo:-122.2074141,47.4868593
END:VEVENT
END:VCALENDAR