BEGIN:VCALENDAR
VERSION:2.0
PRODID:-//Northwest Carpenters Union - ECPv5.0.3.1//NONSGML v1.0//EN
CALSCALE:GREGORIAN
METHOD:PUBLISH
X-WR-CALNAME:Northwest Carpenters Union
X-ORIGINAL-URL:https://nwcarpenters.archive.s360.is
X-WR-CALDESC:Events for Northwest Carpenters Union
BEGIN:VTIMEZONE
TZID:America/Los_Angeles
BEGIN:DAYLIGHT
TZOFFSETFROM:-0800
TZOFFSETTO:-0700
TZNAME:PDT
DTSTART:20220313T100000
END:DAYLIGHT
BEGIN:STANDARD
TZOFFSETFROM:-0700
TZOFFSETTO:-0800
TZNAME:PST
DTSTART:20221106T090000
END:STANDARD
END:VTIMEZONE
BEGIN:VEVENT
DTSTART;TZID=America/Los_Angeles:20220124T180000
DTEND;TZID=America/Los_Angeles:20220124T180000
DTSTAMP:20260421T232612
CREATED:20220110T200857Z
LAST-MODIFIED:20220422T172257Z
UID:52384-1643047200-1643047200@nwcarpenters.archive.s360.is
SUMMARY:Local Union 70 New Member Orientation - Burlington Training Center
DESCRIPTION:\n\n\nNew members orientation \nOccurs on the fourth Tuesday of each month at \n\n\n\n6:00 PM PST \nLocation: \n\n\n\nBurlington Training Center: \n1387 Pacific Dr. Burlington\, WA 98233\n\n\n\n\n\n\n\n\n\n\n\n
URL:https://nwcarpenters.archive.s360.is/event/local-union-70-new-member-orientation-burlington-training-center/2022-01-24/
LOCATION:1387 Pacific Drive\, Burlington WA 98233\, 1387 Pacific Drive\, Burlington\, WA\, 98233
ORGANIZER;CN="Miguel%20Perry":MAILTO:mperry@nwcarpenters.org
END:VEVENT
END:VCALENDAR