BEGIN:VCALENDAR
VERSION:2.0
PRODID:-//Northwest Carpenters Union - ECPv5.0.3.1//NONSGML v1.0//EN
CALSCALE:GREGORIAN
METHOD:PUBLISH
X-WR-CALNAME:Northwest Carpenters Union
X-ORIGINAL-URL:https://nwcarpenters.archive.s360.is
X-WR-CALDESC:Events for Northwest Carpenters Union
BEGIN:VTIMEZONE
TZID:America/Los_Angeles
BEGIN:DAYLIGHT
TZOFFSETFROM:-0800
TZOFFSETTO:-0700
TZNAME:PDT
DTSTART:20220313T100000
END:DAYLIGHT
BEGIN:STANDARD
TZOFFSETFROM:-0700
TZOFFSETTO:-0800
TZNAME:PST
DTSTART:20221106T090000
END:STANDARD
END:VTIMEZONE
BEGIN:VEVENT
DTSTART;TZID=America/Los_Angeles:20220111T183000
DTEND;TZID=America/Los_Angeles:20220111T183000
DTSTAMP:20260421T102256
CREATED:20220110T195831Z
LAST-MODIFIED:20220208T204525Z
UID:52382-1641925800-1641925800@nwcarpenters.archive.s360.is
SUMMARY:Local Union 70 Monthly Executive Board Meeting
DESCRIPTION:Monthly executive board meeting for Local Union 70 \nOccurs  in-person on the second Tuesday of each month at 6:30 PM \nLocation: \n\n\n\nLocal 70 Union Hall \n1387 Pacific Dr. Burlington\, WA 98233\n\n\n\n
URL:https://nwcarpenters.archive.s360.is/event/local-union-70-monthly-executive-board-meeting/2022-01-11/
ORGANIZER;CN="Miguel%20Perry":MAILTO:mperry@nwcarpenters.org
END:VEVENT
END:VCALENDAR