BEGIN:VCALENDAR
VERSION:2.0
PRODID:-//Northwest Carpenters Union - ECPv5.0.3.1//NONSGML v1.0//EN
CALSCALE:GREGORIAN
METHOD:PUBLISH
X-WR-CALNAME:Northwest Carpenters Union
X-ORIGINAL-URL:https://nwcarpenters.archive.s360.is
X-WR-CALDESC:Events for Northwest Carpenters Union
BEGIN:VTIMEZONE
TZID:America/Boise
BEGIN:DAYLIGHT
TZOFFSETFROM:-0700
TZOFFSETTO:-0600
TZNAME:MDT
DTSTART:20220313T090000
END:DAYLIGHT
BEGIN:STANDARD
TZOFFSETFROM:-0600
TZOFFSETTO:-0700
TZNAME:MST
DTSTART:20221106T080000
END:STANDARD
END:VTIMEZONE
BEGIN:VEVENT
DTSTART;TZID=America/Boise:20220201T173000
DTEND;TZID=America/Boise:20220201T173000
DTSTAMP:20260421T214904
CREATED:20220124T175859Z
LAST-MODIFIED:20220225T201654Z
UID:52886-1643736600-1643736600@nwcarpenters.archive.s360.is
SUMMARY:Local Union 635 Monthly Membership Meeting
DESCRIPTION:Local Union 635 monthly in-person membership meeting \noccurs on the first Tuesday of each month at 5:30 PM \nLocation: \n965 S Industry Way Ste 104 Meridian\, ID 83642 \n
URL:https://nwcarpenters.archive.s360.is/event/local-union-635-monthly-membership-meeting/2022-02-01/
LOCATION:Local union 635\, 965 S. Industry Way\, Ste 104\, Meridian\, ID\, 83642
ORGANIZER;CN="Steve%20Kramer":MAILTO:skramer@nwcarpenters.org
END:VEVENT
END:VCALENDAR