BEGIN:VCALENDAR
VERSION:2.0
PRODID:-//Northwest Carpenters Union - ECPv5.0.3.1//NONSGML v1.0//EN
CALSCALE:GREGORIAN
METHOD:PUBLISH
X-WR-CALNAME:Northwest Carpenters Union
X-ORIGINAL-URL:https://nwcarpenters.archive.s360.is
X-WR-CALDESC:Events for Northwest Carpenters Union
BEGIN:VTIMEZONE
TZID:America/Los_Angeles
BEGIN:DAYLIGHT
TZOFFSETFROM:-0800
TZOFFSETTO:-0700
TZNAME:PDT
DTSTART:20220313T100000
END:DAYLIGHT
BEGIN:STANDARD
TZOFFSETFROM:-0700
TZOFFSETTO:-0800
TZNAME:PST
DTSTART:20221106T090000
END:STANDARD
END:VTIMEZONE
BEGIN:VEVENT
DTSTART;TZID=America/Los_Angeles:20220221T180000
DTEND;TZID=America/Los_Angeles:20220221T180000
DTSTAMP:20260422T030319
CREATED:20220207T204206Z
LAST-MODIFIED:20220207T204206Z
UID:53325-1645466400-1645466400@nwcarpenters.archive.s360.is
SUMMARY:Local Union 41 Monthly Membership Meeting
DESCRIPTION:Local Union 41 monthly membership meeting occurs the third Monday of each month at 6:00 p.m. PST \nLocations: \n\n\n\nRenton: \n231 Burnett Ave N \nRenton\, WA 98057 \n  \nEverett: \nEverett Labor Temple \n2812 Lombard Ave \nEverett\, WA 98201 \n  \nFife: \nLocal 196 Hall \n4695 Pacific HWY E \nFife\, WA 98424 \n  \nKennewick: \nLocal 96 Hall \n515 N. Neel St \nKennewick\, WA 99336\n\n\n\n
URL:https://nwcarpenters.archive.s360.is/event/local-union-41-monthly-membership-meeting/2022-02-21/
LOCATION:Local 41 Washington State Exterior Interior Systems\, 231 Burnett Avenue N\, Renton\, WA\, 98057\, United States
GEO:47.4868593;-122.2074141
X-APPLE-STRUCTURED-LOCATION;VALUE=URI;X-ADDRESS=Local 41 Washington State Exterior Interior Systems 231 Burnett Avenue N Renton WA 98057 United States;X-APPLE-RADIUS=500;X-TITLE=231 Burnett Avenue N:geo:-122.2074141,47.4868593
END:VEVENT
END:VCALENDAR