BEGIN:VCALENDAR
VERSION:2.0
PRODID:-//Northwest Carpenters Union - ECPv5.0.3.1//NONSGML v1.0//EN
CALSCALE:GREGORIAN
METHOD:PUBLISH
X-WR-CALNAME:Northwest Carpenters Union
X-ORIGINAL-URL:https://nwcarpenters.archive.s360.is
X-WR-CALDESC:Events for Northwest Carpenters Union
BEGIN:VTIMEZONE
TZID:America/Los_Angeles
BEGIN:DAYLIGHT
TZOFFSETFROM:-0800
TZOFFSETTO:-0700
TZNAME:PDT
DTSTART:20220313T100000
END:DAYLIGHT
BEGIN:STANDARD
TZOFFSETFROM:-0700
TZOFFSETTO:-0800
TZNAME:PST
DTSTART:20221106T090000
END:STANDARD
END:VTIMEZONE
BEGIN:VEVENT
DTSTART;TZID=America/Los_Angeles:20220214T170000
DTEND;TZID=America/Los_Angeles:20220214T170000
DTSTAMP:20260422T025132
CREATED:20220207T204729Z
LAST-MODIFIED:20220207T204729Z
UID:53337-1644858000-1644858000@nwcarpenters.archive.s360.is
SUMMARY:Local Union 41 Monthly Executive Committee Meeting
DESCRIPTION:Local Union 41 monthly executive committee meeting \noccurs online every second Monday of the month at 5:00 p.m\, PST. \n\n\n\nMonthly meeting of the Local 41 Executive Committee reviews communications\, finances\, and reports.\n\n\n\n  \nLink: \nhttps://www.google.com/url?q=https://us06web.zoom.us/j/86096555418?pwd%3DSUN2V3RkN2s2SmFIUGlOTi9wa3ladz09&sa=D&source=calendar&usd=2&usg=AOvVaw1qNcRoSAE3qU0iCClJgPEY \n  \n
URL:https://nwcarpenters.archive.s360.is/event/local-union-41-monthly-executive-committee-meeting/2022-02-14/
END:VEVENT
END:VCALENDAR