BEGIN:VCALENDAR
VERSION:2.0
PRODID:-//Northwest Carpenters Union - ECPv5.0.3.1//NONSGML v1.0//EN
CALSCALE:GREGORIAN
METHOD:PUBLISH
X-WR-CALNAME:Northwest Carpenters Union
X-ORIGINAL-URL:https://nwcarpenters.archive.s360.is
X-WR-CALDESC:Events for Northwest Carpenters Union
BEGIN:VTIMEZONE
TZID:America/Los_Angeles
BEGIN:DAYLIGHT
TZOFFSETFROM:-0800
TZOFFSETTO:-0700
TZNAME:PDT
DTSTART:20220313T100000
END:DAYLIGHT
BEGIN:STANDARD
TZOFFSETFROM:-0700
TZOFFSETTO:-0800
TZNAME:PST
DTSTART:20221106T090000
END:STANDARD
END:VTIMEZONE
BEGIN:VEVENT
DTSTART;TZID=America/Los_Angeles:20220405T180000
DTEND;TZID=America/Los_Angeles:20220405T180000
DTSTAMP:20260421T201756
CREATED:20220405T192402Z
LAST-MODIFIED:20220405T194323Z
UID:53933-1649181600-1649181600@nwcarpenters.archive.s360.is
SUMMARY:Local Union 2949 Monthly Membership Meeting (Evening)
DESCRIPTION:Monthly evening meetings for Local union 2949 occur the second Saturday of the month at 6:00 p.m. \n
URL:https://nwcarpenters.archive.s360.is/event/local-union-2949-monthly-membership-meeting-evening/2022-04-05/
LOCATION:Roseburg Labor Temple\, 742 SE Roberts Avenue\, Roseburg\, OR\, 97470
ORGANIZER;CN="2949":MAILTO:local2949@yahoo.com
END:VEVENT
END:VCALENDAR