BEGIN:VCALENDAR
VERSION:2.0
PRODID:-//Northwest Carpenters Union - ECPv5.0.3.1//NONSGML v1.0//EN
CALSCALE:GREGORIAN
METHOD:PUBLISH
X-WR-CALNAME:Northwest Carpenters Union
X-ORIGINAL-URL:https://nwcarpenters.archive.s360.is
X-WR-CALDESC:Events for Northwest Carpenters Union
BEGIN:VTIMEZONE
TZID:America/Los_Angeles
BEGIN:DAYLIGHT
TZOFFSETFROM:-0800
TZOFFSETTO:-0700
TZNAME:PDT
DTSTART:20220313T100000
END:DAYLIGHT
BEGIN:STANDARD
TZOFFSETFROM:-0700
TZOFFSETTO:-0800
TZNAME:PST
DTSTART:20221106T090000
END:STANDARD
END:VTIMEZONE
BEGIN:VEVENT
DTSTART;TZID=America/Los_Angeles:20220213T083000
DTEND;TZID=America/Los_Angeles:20220213T083000
DTSTAMP:20260421T233215
CREATED:20220208T203924Z
LAST-MODIFIED:20220208T204326Z
UID:53427-1644741000-1644741000@nwcarpenters.archive.s360.is
SUMMARY:Local Union 2784 Monthly Meeting
DESCRIPTION:Local Union 2784 monthly meeting \noccurs the second Sunday of each month at 8:30 a.m. PST \nLocation:\nCoquille Local Office\n255 Highway 42\nCoquille\, OR 97432\n\n\nContact is Brian Oelberg\n\nc (541) 799-4012 • o (541) 672-3329 \nboelberg@nwcarpenters.org \n\n\n
URL:https://nwcarpenters.archive.s360.is/event/local-union-2784-monthly-meeting/2022-02-13/
LOCATION:Local Union 2784\, 255 Hwy 42\, Coquille\, oregon\, United States Minor Outlying Islands
ORGANIZER;CN="Brian%20Oelberg":MAILTO:boelberg@nwcarpenters.org
END:VEVENT
END:VCALENDAR