BEGIN:VCALENDAR
VERSION:2.0
PRODID:-//Northwest Carpenters Union - ECPv5.0.3.1//NONSGML v1.0//EN
CALSCALE:GREGORIAN
METHOD:PUBLISH
X-WR-CALNAME:Northwest Carpenters Union
X-ORIGINAL-URL:https://nwcarpenters.archive.s360.is
X-WR-CALDESC:Events for Northwest Carpenters Union
BEGIN:VTIMEZONE
TZID:America/Los_Angeles
BEGIN:DAYLIGHT
TZOFFSETFROM:-0800
TZOFFSETTO:-0700
TZNAME:PDT
DTSTART:20220313T100000
END:DAYLIGHT
BEGIN:STANDARD
TZOFFSETFROM:-0700
TZOFFSETTO:-0800
TZNAME:PST
DTSTART:20221106T090000
END:STANDARD
END:VTIMEZONE
BEGIN:VEVENT
DTSTART;TZID=America/Los_Angeles:20220209T143000
DTEND;TZID=America/Los_Angeles:20220209T143000
DTSTAMP:20260421T232451
CREATED:20220124T202816Z
LAST-MODIFIED:20220506T221743Z
UID:52923-1644417000-1644417000@nwcarpenters.archive.s360.is
SUMMARY:Local Union 2761 Monthly Membership Meeting
DESCRIPTION:Local Union 2761 Industrial Carpenters monthly membership meeting \noccurs the first Tuesday of the month at 2:30 PM PST or 3:45 PM PST \nAddress: \nCARPENTERS\n115 S 3RD STREET\nMCCLEARY\, WA 9855 \nContact the event organizer below to confirm the meeting start times and locations. \n(360) 495-3525 \n
URL:https://nwcarpenters.archive.s360.is/event/local-union-2761-monthly-membership-meeting/2022-02-09/
LOCATION:Carpenters Local Union 2761\, 115 S 3RD STREET\, MCCLEARY\, WA\, 98557
ORGANIZER;CN="Vincelle%20Calica":MAILTO:local2761@comcast.net
END:VEVENT
END:VCALENDAR