BEGIN:VCALENDAR
VERSION:2.0
PRODID:-//Northwest Carpenters Union - ECPv5.0.3.1//NONSGML v1.0//EN
CALSCALE:GREGORIAN
METHOD:PUBLISH
X-WR-CALNAME:Northwest Carpenters Union
X-ORIGINAL-URL:https://nwcarpenters.archive.s360.is
X-WR-CALDESC:Events for Northwest Carpenters Union
BEGIN:VTIMEZONE
TZID:America/Los_Angeles
BEGIN:DAYLIGHT
TZOFFSETFROM:-0800
TZOFFSETTO:-0700
TZNAME:PDT
DTSTART:20220313T100000
END:DAYLIGHT
BEGIN:STANDARD
TZOFFSETFROM:-0700
TZOFFSETTO:-0800
TZNAME:PST
DTSTART:20221106T090000
END:STANDARD
END:VTIMEZONE
BEGIN:VEVENT
DTSTART;TZID=America/Los_Angeles:20220213T150000
DTEND;TZID=America/Los_Angeles:20220213T150000
DTSTAMP:20260422T010405
CREATED:20220124T220849Z
LAST-MODIFIED:20220208T195321Z
UID:52946-1644764400-1644764400@nwcarpenters.archive.s360.is
SUMMARY:Local Union 2750 Monthly Membership Meeting
DESCRIPTION:Local Union 2750 monthly membership meeting occurs on the second Sunday of each month at 3:00 PM PST \nLocation and Contact Info: \nLU 2750 Industrial Carpenters 1116 S. “A” St.\, Springfield\, OR  97477 Springfield\, OR | (541) 653-7726  \n
URL:https://nwcarpenters.archive.s360.is/event/local-union-2750-monthly-membership-meeting-2/2022-02-13/
LOCATION:Local Union 2750\, 1116 S "S" St\, Springfield\, OR\, 97477\, United States
END:VEVENT
END:VCALENDAR