BEGIN:VCALENDAR
VERSION:2.0
PRODID:-//Northwest Carpenters Union - ECPv5.0.3.1//NONSGML v1.0//EN
CALSCALE:GREGORIAN
METHOD:PUBLISH
X-WR-CALNAME:Northwest Carpenters Union
X-ORIGINAL-URL:https://nwcarpenters.archive.s360.is
X-WR-CALDESC:Events for Northwest Carpenters Union
BEGIN:VTIMEZONE
TZID:America/Los_Angeles
BEGIN:DAYLIGHT
TZOFFSETFROM:-0800
TZOFFSETTO:-0700
TZNAME:PDT
DTSTART:20220313T100000
END:DAYLIGHT
BEGIN:STANDARD
TZOFFSETFROM:-0700
TZOFFSETTO:-0800
TZNAME:PST
DTSTART:20221106T090000
END:STANDARD
END:VTIMEZONE
BEGIN:VEVENT
DTSTART;TZID=America/Los_Angeles:20220202T173000
DTEND;TZID=America/Los_Angeles:20220202T173000
DTSTAMP:20260421T214951
CREATED:20220124T181239Z
LAST-MODIFIED:20220204T231208Z
UID:52899-1643823000-1643823000@nwcarpenters.archive.s360.is
SUMMARY:Local Union 2403 Monthly Membership Meeting
DESCRIPTION:Local Union 2403 in-Person monthly membership meeting \nOccurs the first Wednesday each month at 5:30 PM PST \nlocation: \n1305 Knight Street\nRichland\, WA 99352 United States \n
URL:https://nwcarpenters.archive.s360.is/event/local-union-2403-monthly-membership-meeting/2022-02-02/
LOCATION:Local 2403 Maintenance Carpenters (Nuclear)\, 1305 Knight Street\, Richland\, WA\, 99352\, United States
GEO:46.276237;-119.280606
X-APPLE-STRUCTURED-LOCATION;VALUE=URI;X-ADDRESS=Local 2403 Maintenance Carpenters (Nuclear) 1305 Knight Street Richland WA 99352 United States;X-APPLE-RADIUS=500;X-TITLE=1305 Knight Street:geo:-119.280606,46.276237
END:VEVENT
END:VCALENDAR