BEGIN:VCALENDAR
VERSION:2.0
PRODID:-//Northwest Carpenters Union - ECPv5.0.3.1//NONSGML v1.0//EN
CALSCALE:GREGORIAN
METHOD:PUBLISH
X-WR-CALNAME:Northwest Carpenters Union
X-ORIGINAL-URL:https://nwcarpenters.archive.s360.is
X-WR-CALDESC:Events for Northwest Carpenters Union
BEGIN:VTIMEZONE
TZID:America/Los_Angeles
BEGIN:DAYLIGHT
TZOFFSETFROM:-0800
TZOFFSETTO:-0700
TZNAME:PDT
DTSTART:20220313T100000
END:DAYLIGHT
BEGIN:STANDARD
TZOFFSETFROM:-0700
TZOFFSETTO:-0800
TZNAME:PST
DTSTART:20221106T090000
END:STANDARD
END:VTIMEZONE
BEGIN:VEVENT
DTSTART;TZID=America/Los_Angeles:20220216T173000
DTEND;TZID=America/Los_Angeles:20220216T173000
DTSTAMP:20260421T234314
CREATED:20220208T205624Z
LAST-MODIFIED:20220208T205624Z
UID:52875-1645032600-1645032600@nwcarpenters.archive.s360.is
SUMMARY:Local Union 146 Monthly Membership Meeting
DESCRIPTION:Local Union 146 monthly membership meeting \noccurs in-person on the third Wednesday of the month at 5:30 p.m. PST \nLocation: \n276 Warner Milne Rd\, Oregon City\, OR 97045 \n
URL:https://nwcarpenters.archive.s360.is/event/local-union-146-monthly-membership-meeting/2022-02-16/
LOCATION:Local 146 Oregon/SW Washington Exterior Interior Systems\, 276 Warner-Milne Road\, Oregon City\, OR\, 97405\, United States
GEO:45.33504;-122.596078
X-APPLE-STRUCTURED-LOCATION;VALUE=URI;X-ADDRESS=Local 146 Oregon/SW Washington Exterior Interior Systems 276 Warner-Milne Road Oregon City OR 97405 United States;X-APPLE-RADIUS=500;X-TITLE=276 Warner-Milne Road:geo:-122.596078,45.33504
END:VEVENT
END:VCALENDAR