BEGIN:VCALENDAR
VERSION:2.0
PRODID:-//Northwest Carpenters Union - ECPv5.0.3.1//NONSGML v1.0//EN
CALSCALE:GREGORIAN
METHOD:PUBLISH
X-WR-CALNAME:Northwest Carpenters Union
X-ORIGINAL-URL:https://nwcarpenters.archive.s360.is
X-WR-CALDESC:Events for Northwest Carpenters Union
BEGIN:VTIMEZONE
TZID:America/Los_Angeles
BEGIN:DAYLIGHT
TZOFFSETFROM:-0800
TZOFFSETTO:-0700
TZNAME:PDT
DTSTART:20220313T100000
END:DAYLIGHT
BEGIN:STANDARD
TZOFFSETFROM:-0700
TZOFFSETTO:-0800
TZNAME:PST
DTSTART:20221106T090000
END:STANDARD
END:VTIMEZONE
BEGIN:VEVENT
DTSTART;TZID=America/Los_Angeles:20220124T130000
DTEND;TZID=America/Los_Angeles:20220124T160000
DTSTAMP:20260422T005738
CREATED:20220105T195020Z
LAST-MODIFIED:20220111T202017Z
UID:52154-1643029200-1643040000@nwcarpenters.archive.s360.is
SUMMARY:Local Union 2780 Monthly Meeting
DESCRIPTION:\n\n\nLocal Union 2780 \nMonthly Membership Meeting \n\n\n\nOccur the fourth Monday of each month \n\n\n\n\n\n\n\n1-4 PM PST\n\n\n\n1290 Baltimore St. \nElgin\, OR 97827\n\n\n\n\n\n\n\n\n\n\n\n
URL:https://nwcarpenters.archive.s360.is/event/local-2780-monthly-meeting/2022-01-24/
LOCATION:Local Union 2780\, 1290 Baltimore St.\, Elgin\, OR\, 97827
ORGANIZER;CN="Noe%20Rojas":MAILTO:Local2780@gmail.com
END:VEVENT
END:VCALENDAR