BEGIN:VCALENDAR
VERSION:2.0
PRODID:-//Northwest Carpenters Union - ECPv5.0.3.1//NONSGML v1.0//EN
CALSCALE:GREGORIAN
METHOD:PUBLISH
X-WR-CALNAME:Northwest Carpenters Union
X-ORIGINAL-URL:https://nwcarpenters.archive.s360.is
X-WR-CALDESC:Events for Northwest Carpenters Union
BEGIN:VTIMEZONE
TZID:America/Los_Angeles
BEGIN:DAYLIGHT
TZOFFSETFROM:-0800
TZOFFSETTO:-0700
TZNAME:PDT
DTSTART:20220313T100000
END:DAYLIGHT
BEGIN:STANDARD
TZOFFSETFROM:-0700
TZOFFSETTO:-0800
TZNAME:PST
DTSTART:20221106T090000
END:STANDARD
END:VTIMEZONE
BEGIN:VEVENT
DTSTART;TZID=America/Los_Angeles:20220523T163000
DTEND;TZID=America/Los_Angeles:20220523T163000
DTSTAMP:20260421T121906
CREATED:20220519T211240Z
LAST-MODIFIED:20220519T211337Z
UID:54610-1653323400-1653323400@nwcarpenters.archive.s360.is
SUMMARY:King County Political Action Committee Meeting
DESCRIPTION:The monthly King County Political Action  Committee meetings occur on the fourth Monday of every month at 4:30 PM PST. \n
URL:https://nwcarpenters.archive.s360.is/event/king-county-political-action-committee-meeting/2022-05-23/
LOCATION:PNWRCC Headquarters\, 25120 PACIFIC HWY S\, Kent\, WA\, 98032\, United States
ORGANIZER;CN="Angel%20Garcia":MAILTO:agarcia@nwcarpenters.org
END:VEVENT
END:VCALENDAR