BEGIN:VCALENDAR
VERSION:2.0
PRODID:-//Northwest Carpenters Union - ECPv5.0.3.1//NONSGML v1.0//EN
CALSCALE:GREGORIAN
METHOD:PUBLISH
X-WR-CALNAME:Northwest Carpenters Union
X-ORIGINAL-URL:https://nwcarpenters.archive.s360.is
X-WR-CALDESC:Events for Northwest Carpenters Union
BEGIN:VTIMEZONE
TZID:America/Los_Angeles
BEGIN:DAYLIGHT
TZOFFSETFROM:-0800
TZOFFSETTO:-0700
TZNAME:PDT
DTSTART:20220313T100000
END:DAYLIGHT
BEGIN:STANDARD
TZOFFSETFROM:-0700
TZOFFSETTO:-0800
TZNAME:PST
DTSTART:20221106T090000
END:STANDARD
END:VTIMEZONE
BEGIN:VEVENT
DTSTART;TZID=America/Los_Angeles:20220505T180000
DTEND;TZID=America/Los_Angeles:20220505T180000
DTSTAMP:20260421T164640
CREATED:20220428T222617Z
LAST-MODIFIED:20220428T222820Z
UID:54309-1651773600-1651773600@nwcarpenters.archive.s360.is
SUMMARY:Informational Meeting - Salem\, Oregon
DESCRIPTION:Monthly informational meetings in Salem\, Oregon\, occur on the first Thursday of every month at 6:00 PM PST \n
URL:https://nwcarpenters.archive.s360.is/event/informational-meeting-salem-oregon/2022-05-05/
LOCATION:Blondeez Guest House Restaurant\, 4850 Portland Rd NE\, Salem\, OR\, United States
ORGANIZER;CN="Don%20Stover":MAILTO:dstover@nwcarpenters.org
END:VEVENT
END:VCALENDAR