BEGIN:VCALENDAR
VERSION:2.0
PRODID:-//Northwest Carpenters Union - ECPv5.0.3.1//NONSGML v1.0//EN
CALSCALE:GREGORIAN
METHOD:PUBLISH
X-WR-CALNAME:Northwest Carpenters Union
X-ORIGINAL-URL:https://nwcarpenters.archive.s360.is
X-WR-CALDESC:Events for Northwest Carpenters Union
BEGIN:VTIMEZONE
TZID:America/Los_Angeles
BEGIN:DAYLIGHT
TZOFFSETFROM:-0800
TZOFFSETTO:-0700
TZNAME:PDT
DTSTART:20220313T100000
END:DAYLIGHT
BEGIN:STANDARD
TZOFFSETFROM:-0700
TZOFFSETTO:-0800
TZNAME:PST
DTSTART:20221106T090000
END:STANDARD
END:VTIMEZONE
BEGIN:VEVENT
DTSTART;TZID=America/Los_Angeles:20220323T180000
DTEND;TZID=America/Los_Angeles:20220323T180000
DTSTAMP:20260422T012608
CREATED:20220210T182257Z
LAST-MODIFIED:20220210T182257Z
UID:53541-1648058400-1648058400@nwcarpenters.archive.s360.is
SUMMARY:Informational Meeting- Moses Lake\, Washington
DESCRIPTION:Informational meetings in Moses Lake\, Washington \noccur every other month on the fourth Wednesday at 6:00 p.m. PST beginning in January 2022 \nLocation: \n\n\n\nChico’s Pizza \n530 W Valley Road \nMoses Lake\, WA 98837\n\n\n\n
URL:https://nwcarpenters.archive.s360.is/event/informational-meeting-moses-lake-washington/2022-03-23/
LOCATION:Chico’s\, 530 W Valley Road\, Moses Lake\, WA\, 98837\, United States
ORGANIZER;CN="Julian%20Jensen":MAILTO:jjensen@nwcarpenters.org
GEO:47.139325;-119.2856356
X-APPLE-STRUCTURED-LOCATION;VALUE=URI;X-ADDRESS=Chico’s 530 W Valley Road Moses Lake WA 98837 United States;X-APPLE-RADIUS=500;X-TITLE=530 W Valley Road:geo:-119.2856356,47.139325
END:VEVENT
END:VCALENDAR