BEGIN:VCALENDAR
VERSION:2.0
PRODID:-//Northwest Carpenters Union - ECPv5.0.3.1//NONSGML v1.0//EN
CALSCALE:GREGORIAN
METHOD:PUBLISH
X-WR-CALNAME:Northwest Carpenters Union
X-ORIGINAL-URL:https://nwcarpenters.archive.s360.is
X-WR-CALDESC:Events for Northwest Carpenters Union
BEGIN:VTIMEZONE
TZID:America/Los_Angeles
BEGIN:DAYLIGHT
TZOFFSETFROM:-0800
TZOFFSETTO:-0700
TZNAME:PDT
DTSTART:20220313T100000
END:DAYLIGHT
BEGIN:STANDARD
TZOFFSETFROM:-0700
TZOFFSETTO:-0800
TZNAME:PST
DTSTART:20221106T090000
END:STANDARD
END:VTIMEZONE
BEGIN:VEVENT
DTSTART;TZID=America/Los_Angeles:20220324T180000
DTEND;TZID=America/Los_Angeles:20220324T180000
DTSTAMP:20260422T044034
CREATED:20220217T164305Z
LAST-MODIFIED:20220217T164305Z
UID:53657-1648144800-1648144800@nwcarpenters.archive.s360.is
SUMMARY:Hermiston\, Oregon Monthly Member Informational Meeting
DESCRIPTION:Hermiston\, Oregon monthly member informational meetings \noccur on the fourth Thursday of every month at 6:00 p.m. PST beginning in March 2022 \nLocation: \nOxford Suites \nWalleye Room \n1050 North 1st Street \nHermiston Or. 97838 \n
URL:https://nwcarpenters.archive.s360.is/event/hermiston-oregon-monthly-member-informational-meeting/2022-03-24/
LOCATION:Oxford  Suites\, 1050 N 1st Street\, Hermiston\, OR\, 97838\, United States
ORGANIZER;CN="Garth%20Finley":MAILTO:gfinley@nwcarpenters.org
END:VEVENT
END:VCALENDAR