BEGIN:VCALENDAR
VERSION:2.0
PRODID:-//Northwest Carpenters Union - ECPv5.0.3.1//NONSGML v1.0//EN
CALSCALE:GREGORIAN
METHOD:PUBLISH
X-WR-CALNAME:Northwest Carpenters Union
X-ORIGINAL-URL:https://nwcarpenters.archive.s360.is
X-WR-CALDESC:Events for Northwest Carpenters Union
BEGIN:VTIMEZONE
TZID:America/Los_Angeles
BEGIN:DAYLIGHT
TZOFFSETFROM:-0800
TZOFFSETTO:-0700
TZNAME:PDT
DTSTART:20220313T100000
END:DAYLIGHT
BEGIN:STANDARD
TZOFFSETFROM:-0700
TZOFFSETTO:-0800
TZNAME:PST
DTSTART:20221106T090000
END:STANDARD
END:VTIMEZONE
BEGIN:VEVENT
DTSTART;TZID=America/Los_Angeles:20220315T180000
DTEND;TZID=America/Los_Angeles:20220315T200000
DTSTAMP:20260421T170243
CREATED:20220309T181915Z
LAST-MODIFIED:20220309T181915Z
UID:53754-1647367200-1647374400@nwcarpenters.archive.s360.is
SUMMARY:Coos Bay Informational Meeting
DESCRIPTION:Coos Bay member informational meetings occur on the third Tuesday of every month at 6:00 p.m. PST \nLocation: \nConey Station \n295 S. Broadway \nCoos Bay\, OR 97420 \n  \n
URL:https://nwcarpenters.archive.s360.is/event/coos-bay-informational-meeting/2022-03-15/
LOCATION:Coney Station Restaurant\, 295 S Broadway\, Coos Bay\, OR\, 97420\, United States
ORGANIZER;CN="Jeff%20Harms":MAILTO:jharms@nwcarpenters.org
GEO:43.366087;-124.2131936
X-APPLE-STRUCTURED-LOCATION;VALUE=URI;X-ADDRESS=Coney Station Restaurant 295 S Broadway Coos Bay OR 97420 United States;X-APPLE-RADIUS=500;X-TITLE=295 S Broadway:geo:-124.2131936,43.366087
END:VEVENT
END:VCALENDAR