BEGIN:VCALENDAR
VERSION:2.0
PRODID:-//Northwest Carpenters Union - ECPv5.0.3.1//NONSGML v1.0//EN
CALSCALE:GREGORIAN
METHOD:PUBLISH
X-WR-CALNAME:Northwest Carpenters Union
X-ORIGINAL-URL:https://nwcarpenters.archive.s360.is
X-WR-CALDESC:Events for Northwest Carpenters Union
BEGIN:VTIMEZONE
TZID:America/Los_Angeles
BEGIN:DAYLIGHT
TZOFFSETFROM:-0800
TZOFFSETTO:-0700
TZNAME:PDT
DTSTART:20220313T100000
END:DAYLIGHT
BEGIN:STANDARD
TZOFFSETFROM:-0700
TZOFFSETTO:-0800
TZNAME:PST
DTSTART:20221106T090000
END:STANDARD
END:VTIMEZONE
BEGIN:VEVENT
DTSTART;TZID=America/Los_Angeles:20220106T190000
DTEND;TZID=America/Los_Angeles:20220106T190000
DTSTAMP:20260421T121855
CREATED:20220105T212112Z
LAST-MODIFIED:20220111T205212Z
UID:52207-1641495600-1641495600@nwcarpenters.archive.s360.is
SUMMARY:Carpenters Local Union 59 Monthly Membership Meeting
DESCRIPTION:\n\n\nLocal Union 59 Monthly Membership Meeting \nOccurs on the first Thursday of each month. \n7:00 PM PST \n\n\n\n127 E. Augusta Ave\, Spokane\, WA 99207 \nand \nSatellite locations – Kennewick\, Yakima\, Wenatchee and Moscow (odd months) Lewiston (even months) \nCall or email for more details \n\n\n\n509-326-0900 \n\n\n\noffice@carpenterslocal59.org\n\n\n\n\n\n\n\n\n\n\n\n\n\n\n\n
URL:https://nwcarpenters.archive.s360.is/event/carpenters-local-59-monthly-membership-meeting/2022-01-06/
LOCATION:Local 59 Central & Eastern Washington/Northern Idaho Carpenters\, 127 E Augusta Avenue\, Spokane\, WA\, 99207\, United States
ORGANIZER;CN="local%2059":MAILTO:office@carpenterslocal59.org
GEO:47.6730305;-117.4082262
X-APPLE-STRUCTURED-LOCATION;VALUE=URI;X-ADDRESS=Local 59 Central & Eastern Washington/Northern Idaho Carpenters 127 E Augusta Avenue Spokane WA 99207 United States;X-APPLE-RADIUS=500;X-TITLE=127 E Augusta Avenue:geo:-117.4082262,47.6730305
END:VEVENT
END:VCALENDAR