BEGIN:VCALENDAR
VERSION:2.0
PRODID:-//Northwest Carpenters Union - ECPv5.0.3.1//NONSGML v1.0//EN
CALSCALE:GREGORIAN
METHOD:PUBLISH
X-WR-CALNAME:Northwest Carpenters Union
X-ORIGINAL-URL:https://nwcarpenters.archive.s360.is
X-WR-CALDESC:Events for Northwest Carpenters Union
BEGIN:VTIMEZONE
TZID:America/Boise
BEGIN:DAYLIGHT
TZOFFSETFROM:-0700
TZOFFSETTO:-0600
TZNAME:MDT
DTSTART:20220313T090000
END:DAYLIGHT
BEGIN:STANDARD
TZOFFSETFROM:-0600
TZOFFSETTO:-0700
TZNAME:MST
DTSTART:20221106T080000
END:STANDARD
END:VTIMEZONE
BEGIN:VEVENT
DTSTART;TZID=America/Boise:20220215T190000
DTEND;TZID=America/Boise:20220215T190000
DTSTAMP:20260422T012729
CREATED:20220201T154017Z
LAST-MODIFIED:20220201T173818Z
UID:53067-1644951600-1644951600@nwcarpenters.archive.s360.is
SUMMARY:Carpenter and Millwright Local Union 808 Monthly Membership Meeting
DESCRIPTION:Carpenter and millwright local union 808 monthly membership meeting \noccurs the third Tuesday of each month at 7:00 PM MT \nIn-person location: \n\n\n\n4147 N. Haroldsen Drive\, Idaho Falls\, ID 83401 \n* Member Phone In and Zoom Meeting option available-link is emailed to members the day of the meeting.\n\n\n\n
URL:https://nwcarpenters.archive.s360.is/event/carpenter-and-millwright-local-union-808-monthly-membership-meeting/2022-02-15/
LOCATION:Local Union 808\, 4147 Haroldsen Dr\, Idaho Falls\, ID\, 83401\, United States
ORGANIZER;CN="President%2C%20Richard%20A.%20Lewis":MAILTO:ubcjalu808@gmail.com
GEO:43.534498;-112.011228
X-APPLE-STRUCTURED-LOCATION;VALUE=URI;X-ADDRESS=Local Union 808 4147 Haroldsen Dr Idaho Falls ID 83401 United States;X-APPLE-RADIUS=500;X-TITLE=4147 Haroldsen Dr:geo:-112.011228,43.534498
END:VEVENT
END:VCALENDAR