BEGIN:VCALENDAR
VERSION:2.0
PRODID:-//Northwest Carpenters Union - ECPv5.0.3.1//NONSGML v1.0//EN
CALSCALE:GREGORIAN
METHOD:PUBLISH
X-WR-CALNAME:Northwest Carpenters Union
X-ORIGINAL-URL:https://nwcarpenters.archive.s360.is
X-WR-CALDESC:Events for Northwest Carpenters Union
BEGIN:VTIMEZONE
TZID:America/Los_Angeles
BEGIN:DAYLIGHT
TZOFFSETFROM:-0800
TZOFFSETTO:-0700
TZNAME:PDT
DTSTART:20220313T100000
END:DAYLIGHT
BEGIN:STANDARD
TZOFFSETFROM:-0700
TZOFFSETTO:-0800
TZNAME:PST
DTSTART:20221106T090000
END:STANDARD
END:VTIMEZONE
BEGIN:VEVENT
DTSTART;TZID=America/Los_Angeles:20220118T190000
DTEND;TZID=America/Los_Angeles:20220118T190000
DTSTAMP:20260421T184305
CREATED:20220105T183857Z
LAST-MODIFIED:20220111T195445Z
UID:52089-1642532400-1642532400@nwcarpenters.archive.s360.is
SUMMARY:Apprentice Applicant Interviews & S ID Carpenters JATC Meeting
DESCRIPTION:\n\n\nMembers meet to review Local Union membership activity and financial statements.  Council Representatives report on work opportunities.\n\n\n\n\n\n\nMembers may call into the meeting at 1-877-820-7831 Passcode 9629666# or join via ZOOM Meeting Rooms (meeting invitation emailed to members the day of the meeting)\n\n\n\n
URL:https://nwcarpenters.archive.s360.is/event/apprentice-applicant-interviews-s-id-carpenters-jatc-meeting/2022-01-18/
LOCATION:4147 N Haroldsen Drive\, Idaho Falls\, ID  83401\, 4147 N Haroldsen Drive\, Idaho Falls\, ID\, 83401
ORGANIZER;CN="President%2C%20Richard%20A.%20Lewis":MAILTO:ubcjalu808@gmail.com
END:VEVENT
END:VCALENDAR